Workbook

Sheet SO LIEU
A1: TỔNG DỰ TOÁN ĐỀ ÁN
A3: TT | B3: Tổng giá trị thiết bị đầu tư | D3: Kế hoạch đầu tư
D4: Giai đoạn 2020 - 2021 | E4: Giai đoạn 2021 - 2022 | F4: Giai đoạn 2022 - 2023 | G4: Giai đoạn 2023 - 2024 | H4: Giai đoạn 2024 - 2025
A5: I | B5: Khoa Động lực | C5: =C6+C7+C8 -> 30504190050 | D5: =D6+D7+D8 -> 11186000000 | E5: =E6+E7+E8 -> 13190190050 | F5: =F6+F7+F8 -> 6128000000 | G5: =G6+G7+G8 -> 0 | H5: =H6+H7+H8 -> 0
B6: Xưởng …… | C6: =D6+E6+F6+G6+H6 -> 11186000000 | D6: 11186000000
B7: Xưởng …… | C7: =D7+E7+F7+G7+H7 -> 13190190050 | E7: 13190190050
B8: Xưởng…… | C8: =D8+E8+F8+G8+H8 -> 6128000000 | F8: 6128000000
A9: II | B9: Khoa Cơ khí | C9: =C10+C11+C12 -> 40100000000 | D9: =D10+D11+D12 -> 0 | E9: =E10+E11+E12 -> 0 | F9: =F10+F11+F12 -> 10100000000 | G9: =G10+G11+G12 -> 20000000000 | H9: =H10+H11+H12 -> 10000000000
A10: 1 | B10: P.học cơ khí công nghệ cao | C10: =D10+E10+F10+G10+H10 -> 6100000000 | F10: 6100000000
A11: 2 | B11: P.Thực hành Thủy lực-Khí nén | C11: =D11+E11+F11+G11+H11 -> 4000000000 | H11: 4000000000
A12: 3 | B12: Xưởng khuôn mẫu | C12: =D12+E12+F12+G12+H12 -> 30000000000 | F12: 4000000000 | G12: 20000000000 | H12: 6000000000
A13: III | B13: Khoa Điện công nghiệp | C13: =C14+C15+C16 -> 4.8322407e+10 | D13: =D14+D15+D16 -> 20000000000 | E13: =E14+E15+E16 -> 1.9162939e+10 | F13: =F14+F15+F16 -> 9159468111 | G13: =G14+G15+G16 -> 0 | H13: =H14+H15+H16 -> 0
B14: Điện công nghiệp | C14: =D14+E14+F14+G14+H14 -> 20000000000 | D14: 20000000000
B15: Cơ điện tử | C15: =D15+E15+F15+G15+H15 -> 1.9162939e+10 | E15: 1.9162939e+10
B16: Công nghệ kỹ thuật Đ-ĐT | C16: =D16+E16+F16+G16+H16 -> 9159468111 | F16: 9159468111
A17: IV | B17: Khoa CNTT | C17: =C18+C19+C20 -> 9923770000 | D17: =D18+D19+D20 -> 0 | E17: =E18+E19+E20 -> 0 | F17: =F18+F19+F20 -> 5246640000 | G17: =G18+G19+G20 -> 2606990000 | H17: =H18+H19+H20 -> 2070140000
A18: 1 | B18: P. thực hành mạng máy tính | C18: =D18+E18+F18+G18+H18 -> 5246640000 | F18: 5246640000
A19: 2 | B19: P. Thiết kế đồ họa | C19: =D19+E19+F19+G19+H19 -> 2606990000 | G19: 2606990000
A20: 3 | B20: P. Chuyên ngành lập trình máy tính | C20: =D20+E20+F20+G20+H20 -> 2070140000 | H20: 2070140000
A21: V | B21: Thiết bị quản trị nhà trường | C21: =D21+E21+F21+G21+H21 -> 4063232250 | D21: 4063232250
B22: GIÁ TRỊ THIẾT BỊ I-V | C22: =C5+C9+C13+C17+C21 -> 1.329136e+11 | D22: =D5+D9+D13+D17 -> 31186000000 | E22: =E5+E9+E13+E17 -> 3.2353129e+10 | F22: =F5+F9+F13+F17 -> 30634108111 | G22: =G5+G9+G13+G17 -> 22606990000 | H22: =H5+H9+H13+H17 -> 12070140000
A23: VI | B23: CHI PHÍ CẢI TẠO, XÂY DỰNG PHÒNG HỌC, XƯỞNG THỰC HÀNH, KÝ TÚC XÁ | C23: =D23+E23+F23+G23+H23 -> 19999979000 | D23: 5138627000 | E23: 4317755000 | F23: 10543597000
A24: VII | B24: CHI PHÍ ĐÀO TẠO | C24: =C25+C26+C27+C28 -> 3747160000 | D24: =D25+D26+D27+D28 -> 811232000 | E24: =E25+E26+E27+E28 -> 865232000 | F24: =F25+F26+F27+F28 -> 760232000 | G24: =G25+G26+G27+G28 -> 655232000 | H24: =H25+H26+H27+H28 -> 655232000
A25: 1 | B25: Chi phí kiểm định Trường | C25: =D25+E25+F25+G25+H25 -> 170000000 | D25: 170000000
A26: 2 | B26: Chi phí kiểm định Chương trình đào tạo | C26: =D26+E26+F26+G26+H26 -> 735000000 | E26: 315000000 | F26: 210000000 | G26: 105000000 | H26: 105000000
A27: 3 | B27: Phát triển chương trình đào tạo | C27: =D27+E27+F27+G27+H27 -> 951160000 | D27: 190232000 | E27: 190232000 | F27: 190232000 | G27: 190232000 | H27: 190232000
A28: 4 | B28: Chi phí đào tạo GV | C28: =C29+C30 -> 1891000000 | D28: =D29+D30 -> 451000000 | E28: =E29+E30 -> 360000000 | F28: =F29+F30 -> 360000000 | G28: =G29+G30 -> 360000000 | H28: =H29+H30 -> 360000000
B29: - Kỹ năng nghề | C29: =D29+E29+F29+G29+H29 -> 91000000 | D29: 91000000
B30: - Ngoại ngữ | C30: =D30+E30+F30+G30+H30 -> 1800000000 | D30: 360000000 | E30: 360000000 | F30: 360000000 | G30: 360000000 | H30: 360000000
B31: Chi phí từng năm | C31: =C22+C23+C24 -> 1.5666074e+11 | D31: =D22+D23+D24 -> 37135859000 | E31: =E22+E23+E24 -> 3.7536116e+10 | F31: =F22+F23+F24 -> 41937937111 | G31: =G22+G23+G24 -> 23262222000 | H31: =H22+H23+H24 -> 12725372000
B32: I - VII | C32: =C31 -> 1.5666074e+11

Sheet GIA TRI DAU TU
A2: TỔNG GIÁ TRỊ ĐẦU TƯ THIẾT BỊ ĐÀO TẠO VÀ PHỤC VỤ QUẢN TRỊ NHÀ TRƯỜNG
H3: ĐVT: đồng
A4: TT | B4: TÊN KHOA | C4: Tổng giá trị thiết bị đầu tư | D4: Kế hoạch đầu tư
D5: Giai đoạn 2020 - 2021 | E5: Giai đoạn 2021 - 2022 | F5: Giai đoạn 2022 - 2023 | G5: Giai đoạn 2023 - 2024 | H5: Giai đoạn 2024 - 2025
A6: 1 | B6: Khoa Động lực | C6: =D6+E6+F6 -> 30504190050 | D6: ='SO LIEU'!D5 -> 11186000000 | E6: ='SO LIEU'!E5 -> 13190190050 | F6: ='SO LIEU'!F5 -> 6128000000 | G6: ='SO LIEU'!G5 -> 0 | H6: ='SO LIEU'!H5 -> 0
B7: Nghề CN Ô tô | D7: 11186000000 | E7: 13190190050 | F7: 6128000000
A8: 2 | B8: Khoa Cơ khí | C8: =D8+E8+F8+G8+H8 -> 40100000000 | D8: ='SO LIEU'!D9 -> 0 | E8: ='SO LIEU'!E9 -> 0 | F8: =F9+F10 -> 10100000000 | G8: =G9+G10 -> 20000000000 | H8: =H9+H10 -> 10000000000
B9: Nghề CN Chế tạo máy | F9: ='SO LIEU'!F12 -> 4000000000 | G9: ='SO LIEU'!G12 -> 20000000000 | H9: ='SO LIEU'!H12 -> 6000000000
B10: Nghề CN Kỹ thuật Cơ khí | F10: ='SO LIEU'!F10 -> 6100000000 | H10: ='SO LIEU'!H11 -> 4000000000
A11: 3 | B11: Khoa Điện - Điện tử | C11: =D11+E11+F11+G11+H11 -> 4.8322407e+10 | D11: =D12+D13+D14 -> 20000000000 | E11: =E12+E13+E14 -> 1.9162939e+10 | F11: =F12+F13+F14 -> 9159468111 | G11: =G12+G13+G14 -> 0 | H11: =H12+H13+H14 -> 0
B12: Nghề Điện công nghiệp | D12: 20000000000
B13: Nghề Cơ điện tử | E13: ='SO LIEU'!E15 -> 1.9162939e+10
B14: Nghề CN kỹ thuật điện, điện tử | F14: ='SO LIEU'!F16 -> 9159468111
A15: 4 | B15: Khoa Công nghệ thông tin | C15: =D15+E15+F15+G15+H15 -> 9923770000 | D15: ='SO LIEU'!D17 -> 0 | E15: ='SO LIEU'!E17 -> 0 | F15: =F16 -> 5246640000 | G15: =G16 -> 2606990000 | H15: =H16 -> 2070140000
B16: Nghề Quản trị mạng máy tính | F16: ='SO LIEU'!F18 -> 5246640000 | G16: ='SO LIEU'!G19 -> 2606990000 | H16: ='SO LIEU'!H20 -> 2070140000
A17: 5 | B17: Thiết bị phục vụ công tác quản trị nhà trường | C17: =D17+E17+F17+G17+H17 -> 4063232250 | D17: ='SO LIEU'!D21 -> 4063232250
B18: CỘNG (1+2+3+4+5) | C18: =SUM(C6:C17) -> 1.329136e+11 | D18: =D6+D8+D11+D15+D17 -> 35249232250 | E18: =E6+E8+E11+E15+E17 -> 3.2353129e+10 | F18: =F6+F8+F11+F15+F17 -> 30634108111 | G18: =G6+G8+G11+G15+G17 -> 22606990000 | H18: =H6+H8+H11+H15+H17 -> 12070140000

Sheet PHAN KY
A1: PHÂN KỲ ĐẦU TƯ DỰ ÁN
H2: ĐVT: đồng
A3: TT | B3: Hạng mục | C3: Tổng giá trị | D3: Kế hoạch đầu tư
D4: Giai đoạn 2020 - 2021 | E4: Giai đoạn 2021 - 2022 | F4: Giai đoạn 2022 - 2023 | G4: Giai đoạn 2023 - 2024 | H4: Giai đoạn 2024 - 2025
A5: 1 | B5: Chi phí thiết bị | C5: =D5+E5+F5+G5+H5 -> 1.329136e+11 | D5: ='GIA TRI DAU TU'!D18 -> 35249232250 | E5: ='GIA TRI DAU TU'!E18 -> 3.2353129e+10 | F5: ='GIA TRI DAU TU'!F18 -> 30634108111 | G5: ='GIA TRI DAU TU'!G18 -> 22606990000 | H5: ='GIA TRI DAU TU'!H18 -> 12070140000
A6: 2 | B6: Chi phí xây dựng | C6: =D6+E6+F6+G6+H6 -> 19999979000 | D6: ='SO LIEU'!D23 -> 5138627000 | E6: ='SO LIEU'!E23 -> 4317755000 | F6: ='SO LIEU'!F23 -> 10543597000
A7: 3 | B7: Chi phí đào tạo | C7: =D7+E7+F7+G7+H7 -> 3747160000 | D7: ='SO LIEU'!D24 -> 811232000 | E7: ='SO LIEU'!E24 -> 865232000 | F7: ='SO LIEU'!F24 -> 760232000 | G7: ='SO LIEU'!G24 -> 655232000 | H7: ='SO LIEU'!H24 -> 655232000
A8: 4 | B8: Chi phí quản lý dự án | C8: ='Khai toan 100-200'!G7 -> 2.3361249e+09 | D8: =$C$8/5 -> 4.6722499e+08 | E8: =$C$8/5 -> 4.6722499e+08 | F8: =$C$8/5 -> 4.6722499e+08 | G8: =$C$8/5 -> 4.6722499e+08 | H8: =$C$8/5 -> 4.6722499e+08
A9: 5 | B9: Chi phí tư vấn | C9: ='Khai toan 100-200'!G8 -> 1.8297974e+09 | D9: =$C$9/5 -> 3.6595949e+08 | E9: =$C$9/5 -> 3.6595949e+08 | F9: =$C$9/5 -> 3.6595949e+08 | G9: =$C$9/5 -> 3.6595949e+08 | H9: =$C$9/5 -> 3.6595949e+08
A10: 6 | B10: Chi phí khác | C10: ='Khai toan 100-200'!G15 -> 1.0371711e+09 | D10: =$C$10/5 -> 2.0743423e+08 | E10: =$C$10/5 -> 2.0743423e+08 | F10: =$C$10/5 -> 2.0743423e+08 | G10: =$C$10/5 -> 2.0743423e+08 | H10: =$C$10/5 -> 2.0743423e+08
A11: 7 | B11: Chi phí dự phòng | C11: ='Khai toan 100-200'!G19 -> 8.0931916e+09 | D11: =$C$11/5 -> 1.6186383e+09 | E11: =$C$11/5 -> 1.6186383e+09 | F11: =$C$11/5 -> 1.6186383e+09 | G11: =$C$11/5 -> 1.6186383e+09 | H11: =$C$11/5 -> 1.6186383e+09
B12: TỔNG ĐẦU TƯ (1-7) | C12: =SUM(C5:C11) -> 1.6995702e+11 | D12: =D5+D8+D9+D10+D11 -> 3.7908489e+10 | E12: =E5+E8+E9+E10+E11 -> 3.5012386e+10 | F12: =F5+F8+F9+F10+F11 -> 3.3293365e+10 | G12: =G5+G8+G9+G10+G11 -> 2.5266247e+10 | H12: =H5+H8+H9+H10+H11 -> 1.4729397e+10
B13: TỔNG ĐẦU TƯ làm tròn) | C13: ='Khai toan 100-200'!G23 -> 169957024000
A17: TT | B17: NGHỀ ĐẦU TƯ | C17: Tổng giá trị | D17: Kế hoạch đầu tư
D18: Giai đoạn | E18: Giai đoạn | F18: Giai đoạn | G18: Giai đoạn | H18: Giai đoạn
D19: 2020 - 2021 | E19: 2021 - 2022 | F19: 2022 - 2023 | G19: 2023 - 2024 | H19: 2024 - 2025
A20: 1 | B20: Công nghệ Ô tô | C20: =D20+E20+F20+G20+H20 -> 30504190050 | D20: ='GIA TRI DAU TU'!D6 -> 11186000000 | E20: ='GIA TRI DAU TU'!E6 -> 13190190050 | F20: ='GIA TRI DAU TU'!F6 -> 6128000000
A21: 2 | B21: Công nghệ chế tạo máy | C21: =D21+E21+F21+G21+H21 -> 30000000000 | F21: ='GIA TRI DAU TU'!F9 -> 4000000000 | G21: ='GIA TRI DAU TU'!G9 -> 20000000000 | H21: ='GIA TRI DAU TU'!H9 -> 6000000000
A22: 3 | B22: Điện Công nghiệp | C22: =D22+E22+F22+G22+H22 -> 20000000000 | D22: ='GIA TRI DAU TU'!D12 -> 20000000000
A23: 4 | B23: Cơ điện tử | C23: =D23+E23+F23+G23+H23 -> 1.9162939e+10 | E23: ='GIA TRI DAU TU'!E13 -> 1.9162939e+10
A24: 5 | B24: Công nghệ kỹ thuật điện điện tử | C24: =D24+E24+F24+G24+H24 -> 9159468111 | F24: ='GIA TRI DAU TU'!F14 -> 9159468111
A25: 6 | B25: Công nghệ kỹ thuật cơ khí | C25: =D25+E25+F25+G25+H25 -> 10100000000 | F25: ='GIA TRI DAU TU'!F10 -> 6100000000 | H25: ='GIA TRI DAU TU'!H10 -> 4000000000
A26: 7 | B26: Quản trị mang máy tính | C26: =D26+E26+F26+G26+H26 -> 9923770000 | F26: ='GIA TRI DAU TU'!F16 -> 5246640000 | G26: ='GIA TRI DAU TU'!G16 -> 2606990000 | H26: ='GIA TRI DAU TU'!H16 -> 2070140000
A27: TỔNG ĐẦU TƯ (1-7) | C27: =SUM(C20:C26) -> 1.2885037e+11 | D27: =SUM(D20:D26) -> 31186000000 | E27: =SUM(E20:E26) -> 3.2353129e+10 | F27: =SUM(F20:F26) -> 30634108111 | G27: =SUM(G20:G26) -> 22606990000 | H27: =SUM(H20:H26) -> 12070140000
J28: ='GIA TRI DAU TU'!C18-'SO LIEU'!C21 -> 1.2885037e+11
A30: TT | B30: TÊN KHOA | C30: Tổng giá trị thiết bị đầu tư | D30: Kế hoạch đầu tư
D31: Giai đoạn 2020 - 2021 | E31: Giai đoạn 2021 - 2022 | F31: Giai đoạn 2022 - 2023 | G31: Giai đoạn 2023 - 2024 | H31: Giai đoạn 2024 - 2025
A32: 1 | B32: Khoa Động lực | C32: =D32+E32+F32+G32+H32 -> 30504190050 | D32: =D20 -> 11186000000 | E32: =E20 -> 13190190050 | F32: =F20 -> 6128000000
A33: 2 | B33: Khoa Cơ khí | C33: =D33+E33+F33+G33+H33 -> 40100000000 | F33: =F21+F25 -> 10100000000 | G33: 20000000000 | H33: 10000000000
A34: 3 | B34: Khoa Điện - Điện tử | C34: =D34+E34+F34+G34+H34 -> 48322407451 | D34: 20000000000 | E34: 19162939340 | F34: =F24 -> 9159468111
A35: 4 | B35: Khoa Công nghệ thông tin | C35: =D35+E35+F35+G35+H35 -> 9923770000 | F35: =F26 -> 5246640000 | G35: =G26 -> 2606990000 | H35: =H26 -> 2070140000
B36: CỘNG | C36: =SUM(C32:C35) -> 128850367501 | D36: =SUM(D32:D35) -> 31186000000 | E36: =SUM(E32:E35) -> 32353129390 | F36: =SUM(F32:F35) -> 30634108111 | G36: =SUM(G32:G35) -> 22606990000 | H36: =SUM(H32:H35) -> 12070140000

Sheet Khai toan 100-200
A3: BẢNG KHÁI TOÁN
A5: TT | B5: NỘI DUNG | C5: Ký hiệu | D5: Cách tính | E5: Giá trị trước thuế | F5: Thuế VAT | G5: Thành tiền sau thuế
A6: I | B6: CHI PHÍ THIẾT BỊ, XÂY DỰNG, ĐÀO TẠO | C6: Gtb | E6: =H6/1.1 -> 1.4241885e+11 | F6: =E6*0.1 -> 1.4241885e+10 | G6: =E6+F6 -> 1.5666074e+11 | H6: ='SO LIEU'!C31 -> 1.5666074e+11
A7: II | B7: CHI PHÍ QUẢN LÝ DỰ ÁN | C7: Gql | D7: ="Gtb x "&H7&"% * 0,8" -> Gtb x 1.864% * 0,8 | E7: =E6*'100-200'!C5%*0.8 -> 2.1237499e+09 | F7: =E7*0.1 -> 2.1237499e+08 | G7: =E7+F7 -> 2.3361249e+09 | H7: ='100-200'!C5 -> 1.864
A8: III | B8: CHI PHÍ TƯ VẤN | C8: Gtv | E8: =E9+E10+E11+E12+E13+E14 -> 1.6634522e+09 | F8: =E8*0.1 -> 1.6634522e+08 | G8: =E8+F8 -> 1.8297974e+09
A9: 1 | B9: Chi phí lập báo cáo nghiên cứu khả thi | D9: ="Gtb x "&H9&"%" -> Gtb x 0.424% | E9: =E6*'100-200'!C10% -> 6.0385594e+08 | F9: =E9*0.1 -> 60385594 | G9: =E9+F9 -> 6.6424153e+08 | H9: ='100-200'!C10 -> 0.424
A10: 2 | B10: Chi phí thẩm tra báo cáo nghiên cứu khả thi | D10: ="Gtb x "&H10&"%" -> Gtb x 0.075% | E10: =E6*'100-200'!C15% -> 1.0681414e+08 | F10: =E10*0.1 -> 10681414 | G10: =E10+F10 -> 1.1749555e+08 | H10: ='100-200'!C15 -> 0.075
A11: 3 | B11: Chi phí thẩm định giá thiết bị | D11: ="Gtb x "&H11&"%" -> Gtb x 0.2% | E11: =E6*0.2% -> 2.8483771e+08 | F11: =E11*0.1 -> 28483771 | G11: =E11+F11 -> 3.1332148e+08 | H11: =0.2 -> 0.2
A12: 4 | B12: Chi phí lập hồ sơ mời thầu, đánh giá hồ sơ dự thầu mua sắm vậy tư thiết bị | D12: ="Gtb x "&H12&"%" -> Gtb x 0.106% | E12: =E6*'100-200'!C20% -> 1.5096398e+08 | F12: =E12*0.1 -> 15096398 | G12: =E12+F12 -> 1.6606038e+08 | H12: ='100-200'!C20 -> 0.106
A13: 5 | B13: Chi phí thẩm định kết quả lựa chọn nhà thầu cung cấp thiết bị | D13: ="Gtb x "&H13&"%" -> Gtb x 0.05% | E13: =E6*0.05% -> 71209427 | F13: =E13*0.1 -> 7120942.7 | G13: =E13+F13 -> 78330369 | H13: =0.05 -> 0.05
A14: 6 | B14: Chi phí giám sát lắp đặt thiết bị | D14: ="Gtb x "&H14&"%" -> Gtb x 0.313% | E14: =E6*'100-200'!C25% -> 4.4577101e+08 | F14: =E14*0.1 -> 44577101 | G14: =E14+F14 -> 4.9034811e+08 | H14: ='100-200'!C25 -> 0.313
A15: IV | B15: CHI PHÍ KHÁC | C15: Gk | E15: =E16+E17+E18 -> 9.4288285e+08 | F15: =E15*0.1 -> 94288285 | G15: =E15+F15 -> 1.0371711e+09
A16: 1 | B16: Chi phí thẩm tra quyết toán vốn | D16: ="[(Gtb + Gql + Gtv) x "&H16&"%]x70%" -> [(Gtb + Gql + Gtv) x 0.359%]x70% | E16: =(E6+E7+E8)*'100-200'!C30%*0.7 -> 3.6741582e+08 | F16: =E16*0.1 -> 36741582 | G16: =E16+F16 -> 4.041574e+08 | H16: ='100-200'!C30 -> 0.359
A17: 2 | B17: Chi phí Kiểm toán | D17: ="[(Gtb + Gql + Gtv) x "&H17&"%]x70%" -> [(Gtb + Gql + Gtv) x 0.548%]x70% | E17: =(E6+E7+E8)*'100-200'!C35%*0.7 -> 5.6084643e+08 | F17: =E17*0.1 -> 56084643 | G17: =E17+F17 -> 6.1693107e+08 | H17: ='100-200'!C35 -> 0.548
A18: 3 | B18: Chi phí thẩm định dự án | D18: ="(Gtb + Gql + Gtv) x "&H18&"%" -> (Gtb + Gql + Gtv) x 0.01% | E18: =(E6+E7+E8)*'100-200'!C40% -> 14620606 | F18: =E18*0.1 -> 1462060.6 | G18: =E18+F18 -> 16082666 | H18: ='100-200'!C40 -> 0.01
A19: V | B19: CHI PHÍ DỰ PHÒNG | C19: Gdp | D19: Gdp=Gdp1+Gdp2 | E19: =E20+E21 -> 7.3574469e+09 | F19: =F20+F21 -> 7.3574469e+08 | G19: =F19+E19 -> 8.0931916e+09
A20: 1 | B20: Chi phí dự phòng do khối lượng công việc phát sinh | C20: Gdp1 | E20: 0 | F20: 0 | G20: 0
A21: 2 | B21: Chi phí dự phòng do trượt giá | C21: Gdp2 | D21: (Gtb + Gql + Gtv + Gk) x 5% | E21: =(E6+E7+E8+E15)*5% -> 7.3574469e+09 | F21: =E21*0.1 -> 7.3574469e+08 | G21: =E21+F21 -> 8.0931916e+09
A22: VI | B22: TỔNG KHÁI TOÁN | E22: =E6+E7+E8+E15+E19 -> 1.5450639e+11 | F22: =F6+F7+F8+F15+F19 -> 1.5450639e+10 | G22: =G6+G7+G8+G15+G19 -> 1.6995702e+11 | H22: =E22+F22 -> 1.6995702e+11
A23: VII | B23: TỔNG KHÁI TOÁN (làm tròn) | G23: =ROUND(G22,-3) -> 169957024000 | H23: =G23*5% -> 8497851200
H24: =G23-H23 -> 161459172800

Sheet 100-200
H2: 200000000000
B3: Chi phí quản lý dự án | H3: 500000000000
B5: Nt | C5: =ROUND(1.442-(1.442-1.796)/(200000000000-500000000000)*('Khai toan 100-200'!E6-500000000000),3) -> 1.864
B8: Chi phí lập báo cáo nghiên cứu khả thi
B10: Nt | C10: =ROUND(0.287-(0.287-0.402)/(200000000000-500000000000)*('Khai toan 100-200'!E6-500000000000),3) -> 0.424
B13: Chi phí thẩm tra báo cáo nghiên cứu khả thi
B15: Nt | C15: =ROUND(0.046-(0.046-0.07)/(200000000000-500000000000)*('Khai toan 100-200'!E6-500000000000),3) -> 0.075
B18: Chi phí lập hồ sơ mời thầu, đánh giá hồ sơ dự thầu mua sắm vậy tư thiết bị
B20: Nt | C20: =ROUND(0.081-(0.081-0.102)/(200000000000-500000000000)*('Khai toan 100-200'!E6-500000000000),3) -> 0.106
B23: Chi phí giám sát lắp đặt thiết bị
B25: Nt | C25: =ROUND(0.261-(0.261-0.305)/(200000000000-500000000000)*('Khai toan 100-200'!E6-500000000000),3) -> 0.313
B28: Chi phí thẩm tra quyết toán vốn
B30: Nt | C30: =ROUND(0.225-(0.225-0.375)/(100000000000-500000000000)*('Khai toan 100-200'!E6-500000000000),3) -> 0.359
B33: Chi phí kiểm toán
B35: Nt | C35: =ROUND(0.325-(0.325-0.575)/(100000000000-500000000000)*('Khai toan 100-200'!E6-500000000000),3) -> 0.548
B38: Chi phí thẩm định dự án
B40: Nt | C40: =ROUND(0.0075-(0.0075-0.01)/(200000000000-500000000000)*('Khai toan 100-200'!E6-500000000000),3) -> 0.01
